{"text_format":"1","workbook":"xlsx","n_sheets":3,"sheets":["Gift","chart data","Answers"],"not_rendered":{"charts":1,"images":5,"macros":1,"external_links":0,"defined_names":0,"comments":0,"pivot_tables":0},"unopened":[],"bounds":{"document_bytes":16777216,"sheet_cells":100000,"rows_first":2000,"rows_last":500,"rows_between":2000,"halvings":0,"cell_chars":16384,"cell_head_chars":4096},"cells_cut":0,"cells_raw":0,"read":"whole","date_system":"1900"}

{"sheet":"Gift","index":0,"n_rows":20,"n_cols":2,"rows_kept":20,"cut":false,"hidden":false,"merged":[]}
["Merry Christmas from My Online Training Hub"]
[]
[]
[]
["Each correct answer will unwrap a section of the present.","Answers"]
["Question 1 Is 5 a prime number? [choosefrom list]"]
[]
["Question 2 How many sides does a decagon have?"]
[]
["Question 3 - what is 2 + 2?"]
[]
["Question 4 - What is two thirds of 270"]
[]
["Question 5 - Which of the following is the odd one out?\nCube, Square, Sphere, Cylinder, Octahedron."]
[]
["Question 6 - How many straight edges does a cube have?"]
[]
["Question 7 - How many degrees are there in a right angle?"]
[]
["Give up? Click to see the answers."]

{"sheet":"chart data","index":1,"n_rows":23,"n_cols":5,"rows_kept":23,"cut":false,"hidden":false,"merged":[]}
[]
[null,null,"Bottom","Top","Ribbon"]
[null,1,{"$f":"IF(Gift!$B$16=12,NA(),50)","v":50},{"$f":"IF(Gift!$B$12=180,NA(),50)","v":50},{"$f":"IF(Gift!$B$10=4,NA(),50)","v":50}]
[null,2,{"$f":"IF(Gift!$B$16=12,NA(),50)","v":50},{"$f":"IF(Gift!$B$12=180,NA(),50)","v":50},{"$f":"IF(Gift!$B$10=4,NA(),50)","v":50}]
[null,3,{"$f":"IF(Gift!$B$16=12,NA(),50)","v":50},{"$f":"IF(Gift!$B$12=180,NA(),50)","v":50},{"$f":"IF(Gift!$B$10=4,NA(),50)","v":50}]
[null,4,{"$f":"IF(Gift!$B$16=12,NA(),50)","v":50},{"$f":"IF(Gift!$B$12=180,NA(),50)","v":50},{"$f":"IF(Gift!$B$10=4,NA(),50)","v":50}]
[null,5,{"$f":"IF(Gift!$B$16=12,NA(),50)","v":50},{"$f":"IF(Gift!$B$12=180,NA(),50)","v":50},{"$f":"IF(Gift!$B$10=4,NA(),50)","v":50}]
[null,6,{"$f":"IF(Gift!$B$16=12,NA(),50)","v":50},{"$f":"IF(Gift!$B$12=180,NA(),50)","v":50},{"$f":"IF(Gift!$B$10=4,NA(),50)","v":50}]
[null,7,{"$f":"IF(Gift!$B$16=12,NA(),50)","v":50},{"$f":"IF(Gift!$B$12=180,NA(),50)","v":50},{"$f":"IF(Gift!$B$10=4,NA(),50)","v":50}]
[null,8,{"$f":"IF(Gift!$B$16=12,NA(),50)","v":50},{"$f":"IF(Gift!$B$12=180,NA(),50)","v":50},{"$f":"IF(Gift!$B$10=4,NA(),50)","v":50}]
[null,9,{"$f":"IF(Gift!$B$16=12,NA(),50)","v":50},{"$f":"IF(Gift!$B$12=180,NA(),50)","v":50},{"$f":"IF(Gift!$B$10=4,NA(),50)","v":50}]
[null,10,{"$f":"IF(Gift!$B$16=12,NA(),50)","v":50},{"$f":"IF(Gift!$B$12=180,NA(),50)","v":50},{"$f":"IF(Gift!$B$10=4,NA(),50)","v":50}]
[null,11,{"$f":"IF(Gift!$B$6=\"yes\",NA(),50)","v":50},{"$f":"IF(Gift!B8=10,NA(),50)","v":50},{"$f":"IF(Gift!$B$10=4,NA(),50)","v":50}]
[null,12,{"$f":"IF(Gift!$B$18=90,NA(),50)","v":50},{"$f":"IF(Gift!$B$14=\"Square\",NA(),50)","v":50},{"$f":"IF(Gift!$B$10=4,NA(),50)","v":50}]
[null,13,{"$f":"IF(Gift!$B$18=90,NA(),50)","v":50},{"$f":"IF(Gift!$B$14=\"Square\",NA(),50)","v":50},{"$f":"IF(Gift!$B$10=4,NA(),50)","v":50}]
[null,14,{"$f":"IF(Gift!$B$18=90,NA(),50)","v":50},{"$f":"IF(Gift!$B$14=\"Square\",NA(),50)","v":50},{"$f":"IF(Gift!$B$10=4,NA(),50)","v":50}]
[null,15,{"$f":"IF(Gift!$B$18=90,NA(),50)","v":50},{"$f":"IF(Gift!$B$14=\"Square\",NA(),50)","v":50},{"$f":"IF(Gift!$B$10=4,NA(),50)","v":50}]
[null,16,{"$f":"IF(Gift!$B$18=90,NA(),50)","v":50},{"$f":"IF(Gift!$B$14=\"Square\",NA(),50)","v":50},{"$f":"IF(Gift!$B$10=4,NA(),50)","v":50}]
[null,17,{"$f":"IF(Gift!$B$18=90,NA(),50)","v":50},{"$f":"IF(Gift!$B$14=\"Square\",NA(),50)","v":50},{"$f":"IF(Gift!$B$10=4,NA(),50)","v":50}]
[null,18,{"$f":"IF(Gift!$B$18=90,NA(),50)","v":50},{"$f":"IF(Gift!$B$14=\"Square\",NA(),50)","v":50},{"$f":"IF(Gift!$B$10=4,NA(),50)","v":50}]
[null,19,{"$f":"IF(Gift!$B$18=90,NA(),50)","v":50},{"$f":"IF(Gift!$B$14=\"Square\",NA(),50)","v":50},{"$f":"IF(Gift!$B$10=4,NA(),50)","v":50}]
[null,20,{"$f":"IF(Gift!$B$18=90,NA(),50)","v":50},{"$f":"IF(Gift!$B$14=\"Square\",NA(),50)","v":50},{"$f":"IF(Gift!$B$10=4,NA(),50)","v":50}]
[null,21,{"$f":"IF(Gift!$B$18=90,NA(),50)","v":50},{"$f":"IF(Gift!$B$14=\"Square\",NA(),50)","v":50},{"$f":"IF(Gift!$B$10=4,NA(),50)","v":50}]

{"sheet":"Answers","index":2,"n_rows":14,"n_cols":3,"rows_kept":14,"cut":false,"hidden":false,"merged":[]}
["Each correct answer will unwrap a section of the present.","Answers"]
["Question 1 Is 5 a prime number? [choosefrom list]","Yes"]
[]
["Question 2 How many sides does a decagon have?",10]
[]
["Question 3 - what is 2 + 2?",4]
[]
["Question 4 - What is two thirds of 270",{"$f":"270/3*2","v":180}]
[]
["Question 5 - Which of the following is the odd one out?\nCube, Square, Sphere, Cylinder, Octahedron.","Square","A square is two-dimensional, the others are three-dimensional."]
[]
["Question 6 - How many straight edges does a cube have?",12]
[]
["Question 7 - How many degrees are there in a right angle?",90]